BEGIN:VCALENDAR
VERSION:2.0
PRODID:-//Ιατρικός Σύλλογος Θεσσαλονίκης - ECPv6.15.20//NONSGML v1.0//EN
CALSCALE:GREGORIAN
METHOD:PUBLISH
X-ORIGINAL-URL:https://isth.gr
X-WR-CALDESC:Events for Ιατρικός Σύλλογος Θεσσαλονίκης
REFRESH-INTERVAL;VALUE=DURATION:PT1H
X-Robots-Tag:noindex
X-PUBLISHED-TTL:PT1H
BEGIN:VTIMEZONE
TZID:Europe/Athens
BEGIN:DAYLIGHT
TZOFFSETFROM:+0200
TZOFFSETTO:+0300
TZNAME:EEST
DTSTART:20200329T010000
END:DAYLIGHT
BEGIN:STANDARD
TZOFFSETFROM:+0300
TZOFFSETTO:+0200
TZNAME:EET
DTSTART:20201025T010000
END:STANDARD
BEGIN:DAYLIGHT
TZOFFSETFROM:+0200
TZOFFSETTO:+0300
TZNAME:EEST
DTSTART:20210328T010000
END:DAYLIGHT
BEGIN:STANDARD
TZOFFSETFROM:+0300
TZOFFSETTO:+0200
TZNAME:EET
DTSTART:20211031T010000
END:STANDARD
BEGIN:DAYLIGHT
TZOFFSETFROM:+0200
TZOFFSETTO:+0300
TZNAME:EEST
DTSTART:20220327T010000
END:DAYLIGHT
BEGIN:STANDARD
TZOFFSETFROM:+0300
TZOFFSETTO:+0200
TZNAME:EET
DTSTART:20221030T010000
END:STANDARD
END:VTIMEZONE
BEGIN:VEVENT
DTSTART;VALUE=DATE:20210827
DTEND;VALUE=DATE:20210831
DTSTAMP:20260421T051239
CREATED:20210601T070923Z
LAST-MODIFIED:20210601T070923Z
UID:18371-1630022400-1630367999@isth.gr
SUMMARY:31st Annual Meeting of the Diabetic Neuropathy Study Group of the EASD
DESCRIPTION:
URL:https://isth.gr/ekdilosi/31st-annual-meeting-of-the-diabetic-neuropathy-study-group-of-the-easd/
END:VEVENT
BEGIN:VEVENT
DTSTART;VALUE=DATE:20210827
DTEND;VALUE=DATE:20210830
DTSTAMP:20260421T051239
CREATED:20210610T071750Z
LAST-MODIFIED:20210610T071750Z
UID:18466-1630022400-1630281599@isth.gr
SUMMARY:1st International Congress for Minimal Invasive Orthopaedic Surgery. Current Concepts
DESCRIPTION:
URL:https://isth.gr/ekdilosi/1st-international-congress-for-minimal-invasive-orthopaedic-surgery-current-concepts/
END:VEVENT
BEGIN:VEVENT
DTSTART;VALUE=DATE:20210827
DTEND;VALUE=DATE:20210830
DTSTAMP:20260421T051239
CREATED:20210714T050146Z
LAST-MODIFIED:20210714T050146Z
UID:18759-1630022400-1630281599@isth.gr
SUMMARY:1st International Congress for Minimal Invasive Orthopaedic Surgery
DESCRIPTION:
URL:https://isth.gr/ekdilosi/1st-international-congress-for-minimal-invasive-orthopaedic-surgery/
END:VEVENT
END:VCALENDAR