BEGIN:VCALENDAR
VERSION:2.0
PRODID:-//Ιατρικός Σύλλογος Θεσσαλονίκης - ECPv6.15.20//NONSGML v1.0//EN
CALSCALE:GREGORIAN
METHOD:PUBLISH
X-WR-CALNAME:Ιατρικός Σύλλογος Θεσσαλονίκης
X-ORIGINAL-URL:https://isth.gr
X-WR-CALDESC:Events for Ιατρικός Σύλλογος Θεσσαλονίκης
REFRESH-INTERVAL;VALUE=DURATION:PT1H
X-Robots-Tag:noindex
X-PUBLISHED-TTL:PT1H
BEGIN:VTIMEZONE
TZID:Europe/Athens
BEGIN:DAYLIGHT
TZOFFSETFROM:+0200
TZOFFSETTO:+0300
TZNAME:EEST
DTSTART:20250330T010000
END:DAYLIGHT
BEGIN:STANDARD
TZOFFSETFROM:+0300
TZOFFSETTO:+0200
TZNAME:EET
DTSTART:20251026T010000
END:STANDARD
BEGIN:DAYLIGHT
TZOFFSETFROM:+0200
TZOFFSETTO:+0300
TZNAME:EEST
DTSTART:20260329T010000
END:DAYLIGHT
BEGIN:STANDARD
TZOFFSETFROM:+0300
TZOFFSETTO:+0200
TZNAME:EET
DTSTART:20261025T010000
END:STANDARD
BEGIN:DAYLIGHT
TZOFFSETFROM:+0200
TZOFFSETTO:+0300
TZNAME:EEST
DTSTART:20270328T010000
END:DAYLIGHT
BEGIN:STANDARD
TZOFFSETFROM:+0300
TZOFFSETTO:+0200
TZNAME:EET
DTSTART:20271031T010000
END:STANDARD
END:VTIMEZONE
BEGIN:VEVENT
DTSTART;VALUE=DATE:20260312
DTEND;VALUE=DATE:20260316
DTSTAMP:20260421T112311
CREATED:20260305T072337Z
LAST-MODIFIED:20260305T072337Z
UID:34641-1773273600-1773619199@isth.gr
SUMMARY:Φάρος Πνευμονολογίας 2026
DESCRIPTION:
URL:https://isth.gr/ekdilosi/faros-pnevmonologias-2026/
END:VEVENT
BEGIN:VEVENT
DTSTART;VALUE=DATE:20260313
DTEND;VALUE=DATE:20260315
DTSTAMP:20260421T112311
CREATED:20260120T074729Z
LAST-MODIFIED:20260120T074729Z
UID:34361-1773360000-1773532799@isth.gr
SUMMARY:9ο Διεπιστημονικό Preceptorship Ουρολογικού Καρκίνου
DESCRIPTION:
URL:https://isth.gr/ekdilosi/9o-diepistimoniko-preceptorship-ourologikou-karkinou-2/
END:VEVENT
BEGIN:VEVENT
DTSTART;VALUE=DATE:20260313
DTEND;VALUE=DATE:20260315
DTSTAMP:20260421T112311
CREATED:20260303T101820Z
LAST-MODIFIED:20260303T101820Z
UID:34627-1773360000-1773532799@isth.gr
SUMMARY:1η Διημερίδα Κοινωνικής Παιδιατρικής - Ινστιτούτο Υγείας του Παιδιού
DESCRIPTION:
URL:https://isth.gr/ekdilosi/1i-diimerida-koinonikis-paidiatrikis-institouto-ygeias-tou-paidiou/
END:VEVENT
BEGIN:VEVENT
DTSTART;VALUE=DATE:20260313
DTEND;VALUE=DATE:20260316
DTSTAMP:20260421T112311
CREATED:20260309T060420Z
LAST-MODIFIED:20260309T060420Z
UID:34672-1773360000-1773619199@isth.gr
SUMMARY:Πανελλήνιο Συνέδριο Σύγχρονα θέματα Ογκολογίας
DESCRIPTION:
URL:https://isth.gr/ekdilosi/panellinio-synedrio-sygchrona-themata-ogkologias-2/
END:VEVENT
END:VCALENDAR